BEGIN:VCALENDAR
VERSION:2.0
PRODID:-//wp-events-plugin.com//7.2.3.1//EN
TZID:Europe/Zurich
X-WR-TIMEZONE:Europe/Zurich
BEGIN:VEVENT
UID:122@jolandasteiner.ch
DTSTART;TZID=Europe/Zurich:20251207T110000
DTEND;TZID=Europe/Zurich:20251207T130000
DTSTAMP:20251102T142732Z
URL:https://www.jolandasteiner.ch/events/bremgarten-maerchenkonzert-mit-mu
 sik-muri-2/
SUMMARY:BREMGARTEN - Märchenkonzert Aschenbrödel
DESCRIPTION:Aschenbrödel-Märchenkonzert mit Musik Muri am Christchindlim
 ärt in Bremgarten
ATTACH;FMTTYPE=image/jpeg:https://www.jolandasteiner.ch/wp-content/uploads
 /2025/08/MusikMuri.jpg
LOCATION:Stadtkirche Bremgarten\, Pfarrgasse 4\, Bremgarten\, 5620\, Schwei
 z
X-APPLE-STRUCTURED-LOCATION;VALUE=URI;X-ADDRESS=Pfarrgasse 4\, Bremgarten\,
  5620\, Schweiz;X-APPLE-RADIUS=100;X-TITLE=Stadtkirche Bremgarten:geo:0,0
END:VEVENT
BEGIN:VTIMEZONE
TZID:Europe/Zurich
X-LIC-LOCATION:Europe/Zurich
BEGIN:STANDARD
DTSTART:20251026T020000
TZOFFSETFROM:+0200
TZOFFSETTO:+0100
TZNAME:CET
END:STANDARD
END:VTIMEZONE
END:VCALENDAR