BEGIN:VCALENDAR
VERSION:2.0
PRODID:-//wp-events-plugin.com//7.2.3.1//EN
TZID:Europe/Zurich
X-WR-TIMEZONE:Europe/Zurich
BEGIN:VEVENT
UID:120@jolandasteiner.ch
DTSTART;TZID=Europe/Zurich:20251129T110000
DTEND;TZID=Europe/Zurich:20251129T170000
DTSTAMP:20251102T142515Z
URL:https://www.jolandasteiner.ch/events/brunnen-kita-zauberbrunnen/
SUMMARY:BRUNNEN - KiTa Zauberbrunnen
DESCRIPTION:Eröffnungsfest KiTa Zauberbrunnen im Herti
ATTACH;FMTTYPE=image/jpeg:https://www.jolandasteiner.ch/wp-content/uploads
 /2025/08/Kita_Brunnen.jpg
LOCATION:Kita Zauberbrunnen\, im Herti\, Brunnen\, 6440\, Schweiz
X-APPLE-STRUCTURED-LOCATION;VALUE=URI;X-ADDRESS=im Herti\, Brunnen\, 6440\,
  Schweiz;X-APPLE-RADIUS=100;X-TITLE=Kita Zauberbrunnen:geo:0,0
END:VEVENT
BEGIN:VTIMEZONE
TZID:Europe/Zurich
X-LIC-LOCATION:Europe/Zurich
BEGIN:STANDARD
DTSTART:20251026T020000
TZOFFSETFROM:+0200
TZOFFSETTO:+0100
TZNAME:CET
END:STANDARD
END:VTIMEZONE
END:VCALENDAR