BEGIN:VCALENDAR
VERSION:2.0
PRODID:-//wp-events-plugin.com//7.2.3.1//EN
TZID:Europe/Zurich
X-WR-TIMEZONE:Europe/Zurich
BEGIN:VEVENT
UID:90@jolandasteiner.ch
DTSTART;TZID=Europe/Zurich:20250330T143000
DTEND;TZID=Europe/Zurich:20250330T153000
DTSTAMP:20250114T105053Z
URL:https://www.jolandasteiner.ch/events/jenis-gr-das-traumfresserchen/
SUMMARY:Jenis (GR) - Das Traumfresserchen
DESCRIPTION:Musikmärchen mit Marie-Louise Werth und Jolanda Steiner\n\n
ATTACH;FMTTYPE=image/jpeg:https://www.jolandasteiner.ch/wp-content/uploads
 /2025/01/traumfresserchen.jpg
CATEGORIES:Musikmärchen
END:VEVENT
BEGIN:VTIMEZONE
TZID:Europe/Zurich
X-LIC-LOCATION:Europe/Zurich
BEGIN:DAYLIGHT
DTSTART:20250330T030000
TZOFFSETFROM:+0100
TZOFFSETTO:+0200
TZNAME:CEST
END:DAYLIGHT
END:VTIMEZONE
END:VCALENDAR