BEGIN:VCALENDAR
VERSION:2.0
PRODID:-//wp-events-plugin.com//7.2.3.1//EN
TZID:Europe/Zurich
X-WR-TIMEZONE:Europe/Zurich
BEGIN:VEVENT
UID:40@jolandasteiner.ch
DTSTART;TZID=Europe/Zurich;VALUE=DATE:20240504
DTEND;TZID=Europe/Zurich;VALUE=DATE:20240505
DTSTAMP:20240328T130529Z
URL:https://www.jolandasteiner.ch/events/kriens-fest-der-bahnen/
SUMMARY:Kriens - Fest der Bahnen
DESCRIPTION:ganztags ab 11:00\n\n
ATTACH;FMTTYPE=image/jpeg:https://www.jolandasteiner.ch/wp-content/uploads
 /2024/03/Sonnenberg.jpg
CATEGORIES:Naturmärchen
LOCATION:Stadtplatz Kriens\, Stadtplatz 1\, Kriens\, Luzern\, 6010\, Schwei
 z
X-APPLE-STRUCTURED-LOCATION;VALUE=URI;X-ADDRESS=Stadtplatz 1\, Kriens\, Luz
 ern\, 6010\, Schweiz;X-APPLE-RADIUS=100;X-TITLE=Stadtplatz Kriens:geo:0,0
END:VEVENT
BEGIN:VTIMEZONE
TZID:Europe/Zurich
X-LIC-LOCATION:Europe/Zurich
BEGIN:DAYLIGHT
DTSTART:20240331T030000
TZOFFSETFROM:+0100
TZOFFSETTO:+0200
TZNAME:CEST
END:DAYLIGHT
END:VTIMEZONE
END:VCALENDAR