BEGIN:VCALENDAR
VERSION:2.0
PRODID:-//wp-events-plugin.com//7.2.3.1//EN
TZID:Europe/Zurich
X-WR-TIMEZONE:Europe/Zurich
BEGIN:VEVENT
UID:119@jolandasteiner.ch
DTSTART;TZID=Europe/Zurich:20251123T110000
DTEND;TZID=Europe/Zurich:20251123T123000
DTSTAMP:20251102T142424Z
URL:https://www.jolandasteiner.ch/events/kriens-uebergabe-kulturpreis/
SUMMARY:KRIENS - Übergabe Kulturpreis
DESCRIPTION:Übergabe Kulturpreis der Stadt Kriens an Jolanda Steiner. Alle
  sind herzliche eingeladen!
ATTACH;FMTTYPE=image/jpeg:https://www.jolandasteiner.ch/wp-content/uploads
 /2025/08/Kulturpreis.jpg
LOCATION:Stadthaus\, Stadtplatz 1\, Kriens\, 6010\, Schweiz
X-APPLE-STRUCTURED-LOCATION;VALUE=URI;X-ADDRESS=Stadtplatz 1\, Kriens\, 601
 0\, Schweiz;X-APPLE-RADIUS=100;X-TITLE=Stadthaus:geo:0,0
END:VEVENT
BEGIN:VTIMEZONE
TZID:Europe/Zurich
X-LIC-LOCATION:Europe/Zurich
BEGIN:STANDARD
DTSTART:20251026T020000
TZOFFSETFROM:+0200
TZOFFSETTO:+0100
TZNAME:CET
END:STANDARD
END:VTIMEZONE
END:VCALENDAR