BEGIN:VCALENDAR
VERSION:2.0
PRODID:-//wp-events-plugin.com//7.2.3.1//EN
TZID:Europe/Zurich
X-WR-TIMEZONE:Europe/Zurich
BEGIN:VEVENT
UID:41@jolandasteiner.ch
DTSTART;TZID=Europe/Zurich:20240718T143000
DTEND;TZID=Europe/Zurich:20240718T153000
DTSTAMP:20240328T131631Z
URL:https://www.jolandasteiner.ch/events/lenzerheide-musik-maerli-im-wald/
SUMMARY:Lenzerheide - Musik & Märli im Wald
DESCRIPTION:Mit Vera Kaa &amp\; Band
ATTACH;FMTTYPE=image/jpeg:https://www.jolandasteiner.ch/wp-content/uploads
 /2024/03/Lenzerheide_1.jpg
CATEGORIES:Musikmärchen
LOCATION:Lenzerheide\, Oberrüti\, Parpan\, 7076\, Schweiz
X-APPLE-STRUCTURED-LOCATION;VALUE=URI;X-ADDRESS=Oberrüti\, Parpan\, 7076\,
  Schweiz;X-APPLE-RADIUS=100;X-TITLE=Lenzerheide:geo:0,0
END:VEVENT
BEGIN:VTIMEZONE
TZID:Europe/Zurich
X-LIC-LOCATION:Europe/Zurich
BEGIN:DAYLIGHT
DTSTART:20240331T030000
TZOFFSETFROM:+0100
TZOFFSETTO:+0200
TZNAME:CEST
END:DAYLIGHT
END:VTIMEZONE
END:VCALENDAR