BEGIN:VCALENDAR
VERSION:2.0
PRODID:-//wp-events-plugin.com//7.2.3.1//EN
TZID:Europe/Zurich
X-WR-TIMEZONE:Europe/Zurich
BEGIN:VEVENT
UID:113@jolandasteiner.ch
DTSTART;TZID=Europe/Zurich:20251008T150000
DTEND;TZID=Europe/Zurich:20251008T160000
DTSTAMP:20250809T153221Z
URL:https://www.jolandasteiner.ch/events/luzern-kunstkette-musikmaerchen/
SUMMARY:Luzern - Musikmärchen mit Musik von Sabine Pfyffer
DESCRIPTION:MusikMärchen-Nachmittag für die HeimbewohnerInnen im Rahmen d
 es Kultur-Projekts «Die Kunstkette»
ATTACH;FMTTYPE=image/jpeg:https://www.jolandasteiner.ch/wp-content/uploads
 /2025/08/Bild1.jpg
CATEGORIES:Musikmärchen
LOCATION:Viva Luzern AG · Eichhof\, Steinhofstrasse 13 \, Luzern\, 6005\, 
 Schweiz
X-APPLE-STRUCTURED-LOCATION;VALUE=URI;X-ADDRESS=Steinhofstrasse 13 \, Luzer
 n\, 6005\, Schweiz;X-APPLE-RADIUS=100;X-TITLE=Viva Luzern AG · Eichhof:ge
 o:0,0
END:VEVENT
BEGIN:VTIMEZONE
TZID:Europe/Zurich
X-LIC-LOCATION:Europe/Zurich
BEGIN:DAYLIGHT
DTSTART:20250330T030000
TZOFFSETFROM:+0100
TZOFFSETTO:+0200
TZNAME:CEST
END:DAYLIGHT
END:VTIMEZONE
END:VCALENDAR