BEGIN:VCALENDAR
VERSION:2.0
PRODID:-//wp-events-plugin.com//7.2.3.1//EN
TZID:Europe/Zurich
X-WR-TIMEZONE:Europe/Zurich
BEGIN:VEVENT
UID:94@jolandasteiner.ch
DTSTART;TZID=Europe/Zurich:20250512T190000
DTEND;TZID=Europe/Zurich:20250512T203000
DTSTAMP:20250408T164448Z
URL:https://www.jolandasteiner.ch/events/luzern-maerchenzauberei/
SUMMARY:Luzern - Märchenzauberei
DESCRIPTION:Geschlossene Gesellschaft!  -\nMärchenzauber mit viel Musik u
 nd echter Zauberei (Martin Soom).\n\n&nbsp\;
ATTACH;FMTTYPE=image/jpeg:https://www.jolandasteiner.ch/wp-content/uploads
 /2025/04/Zauber_1.jpg
CATEGORIES:MärchenZauberei
LOCATION:Geschäftstelle TRAVERSA\, Tribschengasse 8\, 6005 Luzern\, Schwei
 z
X-APPLE-STRUCTURED-LOCATION;VALUE=URI;X-ADDRESS=Tribschengasse 8\, 6005 Luz
 ern\, Schweiz;X-APPLE-RADIUS=100;X-TITLE=Geschäftstelle TRAVERSA:geo:0,0
END:VEVENT
BEGIN:VTIMEZONE
TZID:Europe/Zurich
X-LIC-LOCATION:Europe/Zurich
BEGIN:DAYLIGHT
DTSTART:20250330T030000
TZOFFSETFROM:+0100
TZOFFSETTO:+0200
TZNAME:CEST
END:DAYLIGHT
END:VTIMEZONE
END:VCALENDAR