BEGIN:VCALENDAR
VERSION:2.0
PRODID:-//wp-events-plugin.com//7.2.3.1//EN
TZID:Europe/Zurich
X-WR-TIMEZONE:Europe/Zurich
BEGIN:VEVENT
UID:134@jolandasteiner.ch
DTSTART;TZID=Europe/Zurich:20260118T103000
DTEND;TZID=Europe/Zurich:20260118T111500
DTSTAMP:20260109T100928Z
URL:https://www.jolandasteiner.ch/events/luzern-planetarium-unter-dem-himm
 elszelt/
SUMMARY:LUZERN PLANETARIUM - Unter dem Himmelszelt
DESCRIPTION:Kommt mit uns unter das Himmelszelt und lasst euch von den Ster
 nen verzaubern. Infos unter:
ATTACH;FMTTYPE=image/jpeg:https://www.jolandasteiner.ch/wp-content/uploads
 /2026/01/Plan_3.png
LOCATION:Verkehrshaus Planetarium\, \, Schweiz
X-APPLE-STRUCTURED-LOCATION;VALUE=URI;X-ADDRESS=\, Schweiz;X-APPLE-RADIUS=1
 00;X-TITLE=Verkehrshaus Planetarium:geo:0,0
END:VEVENT
BEGIN:VTIMEZONE
TZID:Europe/Zurich
X-LIC-LOCATION:Europe/Zurich
BEGIN:STANDARD
DTSTART:20251026T020000
TZOFFSETFROM:+0200
TZOFFSETTO:+0100
TZNAME:CET
END:STANDARD
END:VTIMEZONE
END:VCALENDAR