BEGIN:VCALENDAR
VERSION:2.0
PRODID:-//wp-events-plugin.com//7.2.3.1//EN
TZID:Europe/Zurich
X-WR-TIMEZONE:Europe/Zurich
BEGIN:VEVENT
UID:116@jolandasteiner.ch
DTSTART;TZID=Europe/Zurich:20251108T093000
DTEND;TZID=Europe/Zurich:20251108T150000
DTSTAMP:20251102T140908Z
URL:https://www.jolandasteiner.ch/events/malters-chnusperhuesli-event/
SUMMARY:MALTERS - Chnusperhüsli Event
DESCRIPTION:20 Jahr Jubiläum Chnusperhüslibauen
ATTACH;FMTTYPE=image/jpeg:https://www.jolandasteiner.ch/wp-content/uploads
 /2025/08/Hug_25.jpg
LOCATION:Firma Hug\, Neumühlestrasse 4\, Malters\, 6102\, Schweiz
X-APPLE-STRUCTURED-LOCATION;VALUE=URI;X-ADDRESS=Neumühlestrasse 4\, Malter
 s\, 6102\, Schweiz;X-APPLE-RADIUS=100;X-TITLE=Firma Hug:geo:0,0
END:VEVENT
BEGIN:VTIMEZONE
TZID:Europe/Zurich
X-LIC-LOCATION:Europe/Zurich
BEGIN:STANDARD
DTSTART:20251026T020000
TZOFFSETFROM:+0200
TZOFFSETTO:+0100
TZNAME:CET
END:STANDARD
END:VTIMEZONE
END:VCALENDAR