BEGIN:VCALENDAR
VERSION:2.0
PRODID:-//wp-events-plugin.com//7.2.3.1//EN
TZID:Europe/Zurich
X-WR-TIMEZONE:Europe/Zurich
BEGIN:VEVENT
UID:125@jolandasteiner.ch
DTSTART;TZID=Europe/Zurich:20251224T133000
DTEND;TZID=Europe/Zurich:20251224T141500
DTSTAMP:20251102T142849Z
URL:https://www.jolandasteiner.ch/events/meggen-warten-aufs-christkind/
SUMMARY:MEGGEN - Warten aufs Christkind
DESCRIPTION:Zweite Aufführung: 15.00 - 15.45
ATTACH;FMTTYPE=image/jpeg:https://www.jolandasteiner.ch/wp-content/uploads
 /2025/08/meggen_25.jpg
LOCATION:Schloss Meggenhorn\, Meggenhornstrasse 53\, Meggen\, 6045\, Schwei
 z
X-APPLE-STRUCTURED-LOCATION;VALUE=URI;X-ADDRESS=Meggenhornstrasse 53\, Megg
 en\, 6045\, Schweiz;X-APPLE-RADIUS=100;X-TITLE=Schloss Meggenhorn:geo:0,0
END:VEVENT
BEGIN:VTIMEZONE
TZID:Europe/Zurich
X-LIC-LOCATION:Europe/Zurich
BEGIN:STANDARD
DTSTART:20251026T020000
TZOFFSETFROM:+0200
TZOFFSETTO:+0100
TZNAME:CET
END:STANDARD
END:VTIMEZONE
END:VCALENDAR