BEGIN:VCALENDAR
VERSION:2.0
PRODID:-//wp-events-plugin.com//7.2.3.1//EN
TZID:Europe/Zurich
X-WR-TIMEZONE:Europe/Zurich
BEGIN:VEVENT
UID:124@jolandasteiner.ch
DTSTART;TZID=Europe/Zurich:20251213T110000
DTEND;TZID=Europe/Zurich:20251213T120000
DTSTAMP:20251102T142820Z
URL:https://www.jolandasteiner.ch/events/neuenkirch-maerchen-zauberei/
SUMMARY:NEUENKIRCH - MärchenZauberei
DESCRIPTION:2. Aufführung: 13.00 - Märchen &amp\; Zauberei mit Jolanda St
 einer und Martin Soom
ATTACH;FMTTYPE=image/jpeg:https://www.jolandasteiner.ch/wp-content/uploads
 /2025/08/neuenkirch.jpg
LOCATION:Kleinbühne Neuenkirch\, Oberdorf 5\, Neuenkirch\, 6206\, Schweiz
X-APPLE-STRUCTURED-LOCATION;VALUE=URI;X-ADDRESS=Oberdorf 5\, Neuenkirch\, 6
 206\, Schweiz;X-APPLE-RADIUS=100;X-TITLE=Kleinbühne Neuenkirch:geo:0,0
END:VEVENT
BEGIN:VTIMEZONE
TZID:Europe/Zurich
X-LIC-LOCATION:Europe/Zurich
BEGIN:STANDARD
DTSTART:20251026T020000
TZOFFSETFROM:+0200
TZOFFSETTO:+0100
TZNAME:CET
END:STANDARD
END:VTIMEZONE
END:VCALENDAR