BEGIN:VCALENDAR
VERSION:2.0
PRODID:-//wp-events-plugin.com//7.2.3.1//EN
TZID:Europe/Zurich
X-WR-TIMEZONE:Europe/Zurich
BEGIN:VEVENT
UID:20@jolandasteiner.ch
DTSTART;TZID=Europe/Zurich:20240324T110000
DTEND;TZID=Europe/Zurich:20240324T120000
DTSTAMP:20240321T070504Z
URL:https://www.jolandasteiner.ch/events/olten-zko-familienkonzert-pinocch
 io/
SUMMARY:Olten - ZKO Familienkonzert «Pinocchio»
DESCRIPTION:Familienkonzert «Pinocchio» mit dem Zürcher Kammerorchester\
 n\n
ATTACH;FMTTYPE=image/jpeg:https://www.jolandasteiner.ch/wp-content/uploads
 /2024/03/ZKO_Olten-scaled.jpg
CATEGORIES:Familienkonzert
LOCATION:Stadttheater Olten\, Frohburgstrasse 1\, Olten\, Schweiz
GEO:47.351975;7.904433
X-APPLE-STRUCTURED-LOCATION;VALUE=URI;X-ADDRESS=Frohburgstrasse 1\, Olten\,
  Schweiz;X-APPLE-RADIUS=100;X-TITLE=Stadttheater Olten:geo:47.351975,7.904
 433
END:VEVENT
BEGIN:VTIMEZONE
TZID:Europe/Zurich
X-LIC-LOCATION:Europe/Zurich
BEGIN:STANDARD
DTSTART:20231029T020000
TZOFFSETFROM:+0200
TZOFFSETTO:+0100
TZNAME:CET
END:STANDARD
END:VTIMEZONE
END:VCALENDAR