BEGIN:VCALENDAR
VERSION:2.0
PRODID:-//wp-events-plugin.com//7.2.3.1//EN
TZID:Europe/Zurich
X-WR-TIMEZONE:Europe/Zurich
BEGIN:VEVENT
UID:71@jolandasteiner.ch
DTSTART;TZID=Europe/Zurich;VALUE=DATE:20241117
DTEND;TZID=Europe/Zurich;VALUE=DATE:20241118
DTSTAMP:20240517T130350Z
URL:https://www.jolandasteiner.ch/events/pilatus-christkindlimarkt-2/
SUMMARY:Pilatus - Christkindlimarkt
DESCRIPTION:Pilatus 
ATTACH;FMTTYPE=image/jpeg:https://www.jolandasteiner.ch/wp-content/uploads
 /2024/05/Pilatus.jpg
CATEGORIES:Erzähltheater
LOCATION:Christkindlimarkt\, Pilatus Kulm\, Kriens\, 6010\, Schweiz
X-APPLE-STRUCTURED-LOCATION;VALUE=URI;X-ADDRESS=Pilatus Kulm\, Kriens\, 601
 0\, Schweiz;X-APPLE-RADIUS=100;X-TITLE=Christkindlimarkt:geo:0,0
END:VEVENT
BEGIN:VTIMEZONE
TZID:Europe/Zurich
X-LIC-LOCATION:Europe/Zurich
BEGIN:STANDARD
DTSTART:20241027T020000
TZOFFSETFROM:+0200
TZOFFSETTO:+0100
TZNAME:CET
END:STANDARD
END:VTIMEZONE
END:VCALENDAR