BEGIN:VCALENDAR
VERSION:2.0
PRODID:-//wp-events-plugin.com//7.2.3.1//EN
TZID:Europe/Zurich
X-WR-TIMEZONE:Europe/Zurich
BEGIN:VEVENT
UID:117@jolandasteiner.ch
DTSTART;TZID=Europe/Zurich:20251115T120000
DTEND;TZID=Europe/Zurich:20251115T123000
DTSTAMP:20251102T142037Z
URL:https://www.jolandasteiner.ch/events/pilatus-weihnachtsmarkt/
SUMMARY:PILATUS - Pilu's Lieblingsgeschichten
DESCRIPTION:weitere Aufführungen: 14.00 / 15.00 / 16.00
ATTACH;FMTTYPE=image/jpeg:https://www.jolandasteiner.ch/wp-content/uploads
 /2025/08/Pilu_1.jpg
LOCATION:Pilatus Kulm\, Pilatus Kulm\, Alpnach\, 6053\, Schweiz
X-APPLE-STRUCTURED-LOCATION;VALUE=URI;X-ADDRESS=Pilatus Kulm\, Alpnach\, 60
 53\, Schweiz;X-APPLE-RADIUS=100;X-TITLE=Pilatus Kulm:geo:0,0
END:VEVENT
BEGIN:VTIMEZONE
TZID:Europe/Zurich
X-LIC-LOCATION:Europe/Zurich
BEGIN:STANDARD
DTSTART:20251026T020000
TZOFFSETFROM:+0200
TZOFFSETTO:+0100
TZNAME:CET
END:STANDARD
END:VTIMEZONE
END:VCALENDAR