BEGIN:VCALENDAR
VERSION:2.0
PRODID:-//wp-events-plugin.com//7.2.3.1//EN
TZID:Europe/Zurich
X-WR-TIMEZONE:Europe/Zurich
BEGIN:VEVENT
UID:115@jolandasteiner.ch
DTSTART;TZID=Europe/Zurich:20251029T143000
DTEND;TZID=Europe/Zurich:20251029T153000
DTSTAMP:20250809T063100Z
URL:https://www.jolandasteiner.ch/events/roemerswil-maerchennachmittag-2/
SUMMARY:Römerswil - Märchennachmittag
DESCRIPTION:Zilly und Zingaro 
ATTACH;FMTTYPE=image/jpeg:https://www.jolandasteiner.ch/wp-content/uploads
 /2025/08/Zilly.jpg
CATEGORIES:Märchen
LOCATION:Aula Schulhaus\, Dorf 9\, Römerswil\, 6027\, Schweiz
X-APPLE-STRUCTURED-LOCATION;VALUE=URI;X-ADDRESS=Dorf 9\, Römerswil\, 6027\
 , Schweiz;X-APPLE-RADIUS=100;X-TITLE=Aula Schulhaus:geo:0,0
END:VEVENT
BEGIN:VTIMEZONE
TZID:Europe/Zurich
X-LIC-LOCATION:Europe/Zurich
BEGIN:STANDARD
DTSTART:20251026T020000
TZOFFSETFROM:+0200
TZOFFSETTO:+0100
TZNAME:CET
END:STANDARD
END:VTIMEZONE
END:VCALENDAR