BEGIN:VCALENDAR
VERSION:2.0
PRODID:-//wp-events-plugin.com//7.2.3.1//EN
TZID:Europe/Zurich
X-WR-TIMEZONE:Europe/Zurich
BEGIN:VEVENT
UID:36@jolandasteiner.ch
DTSTART;TZID=Europe/Zurich;VALUE=DATE:20240821
DTEND;TZID=Europe/Zurich;VALUE=DATE:20240822
DTSTAMP:20240306T110223Z
URL:https://www.jolandasteiner.ch/events/schaffhausen-munotfest-2/
SUMMARY:Schaffhausen - Munotfest
DESCRIPTION:Märchen beim Munotturm
ATTACH;FMTTYPE=image/jpeg:https://www.jolandasteiner.ch/wp-content/uploads
 /2024/03/Munot.jpg
CATEGORIES:Erzähltheater
LOCATION:Munotturm\, Munot\, Schaffhausen\, 8200\, Schweiz
X-APPLE-STRUCTURED-LOCATION;VALUE=URI;X-ADDRESS=Munot\, Schaffhausen\, 8200
 \, Schweiz;X-APPLE-RADIUS=100;X-TITLE=Munotturm:geo:0,0
END:VEVENT
BEGIN:VTIMEZONE
TZID:Europe/Zurich
X-LIC-LOCATION:Europe/Zurich
BEGIN:DAYLIGHT
DTSTART:20240331T030000
TZOFFSETFROM:+0100
TZOFFSETTO:+0200
TZNAME:CEST
END:DAYLIGHT
END:VTIMEZONE
END:VCALENDAR