BEGIN:VCALENDAR
VERSION:2.0
PRODID:-//wp-events-plugin.com//7.2.3.1//EN
TZID:Europe/Zurich
X-WR-TIMEZONE:Europe/Zurich
BEGIN:VEVENT
UID:145@jolandasteiner.ch
DTSTART;TZID=Europe/Zurich:20260628T110000
DTEND;TZID=Europe/Zurich:20260628T120000
DTSTAMP:20260214T145336Z
URL:https://www.jolandasteiner.ch/events/zuerich-zko-zilly-die-zauberin/
SUMMARY:ZÜRICH ZKO - Zilly\, die Zauberin
DESCRIPTION:Weitere Aufführungen: 14.00 und 16.00
ATTACH;FMTTYPE=image/jpeg:https://www.jolandasteiner.ch/wp-content/uploads
 /2026/01/ZKO_Zilly.jpg
CATEGORIES:Familienkonzert
LOCATION:ZKO Haus\, Seefeldstrasse 305\, Zürich\, Schweiz
GEO:47.347153;8.565455
X-APPLE-STRUCTURED-LOCATION;VALUE=URI;X-ADDRESS=Seefeldstrasse 305\, Züric
 h\, Schweiz;X-APPLE-RADIUS=100;X-TITLE=ZKO Haus:geo:47.347153,8.565455
END:VEVENT
BEGIN:VTIMEZONE
TZID:Europe/Zurich
X-LIC-LOCATION:Europe/Zurich
BEGIN:DAYLIGHT
DTSTART:20260329T030000
TZOFFSETFROM:+0100
TZOFFSETTO:+0200
TZNAME:CEST
END:DAYLIGHT
END:VTIMEZONE
END:VCALENDAR