BEGIN:VCALENDAR
VERSION:2.0
PRODID:-//wp-events-plugin.com//7.2.3.1//EN
TZID:Europe/Zurich
X-WR-TIMEZONE:Europe/Zurich
BEGIN:VEVENT
UID:29@jolandasteiner.ch
DTSTART;TZID=Europe/Zurich:20240505T103000
DTEND;TZID=Europe/Zurich:20240505T113000
DTSTAMP:20240309T172143Z
URL:https://www.jolandasteiner.ch/events/zugerberg-zugiblubbi-geburtstag/
SUMMARY:Zugerberg - Zugiblubbi Geburtstag
DESCRIPTION:weitere Aufführungen: 13:00 und 14:30\n\n
ATTACH;FMTTYPE=image/jpeg:https://www.jolandasteiner.ch/wp-content/uploads
 /2024/03/Zuggi_24.jpg
LOCATION:Zugerberg\, Blasenbergstrasse\, Zug\, 6300\, Schweiz
X-APPLE-STRUCTURED-LOCATION;VALUE=URI;X-ADDRESS=Blasenbergstrasse\, Zug\, 6
 300\, Schweiz;X-APPLE-RADIUS=100;X-TITLE=Zugerberg:geo:0,0
END:VEVENT
BEGIN:VTIMEZONE
TZID:Europe/Zurich
X-LIC-LOCATION:Europe/Zurich
BEGIN:DAYLIGHT
DTSTART:20240331T030000
TZOFFSETFROM:+0100
TZOFFSETTO:+0200
TZNAME:CEST
END:DAYLIGHT
END:VTIMEZONE
END:VCALENDAR